BEGIN:VCALENDAR
VERSION:2.0
PRODID:-//wp-events-plugin.com//7.2.3.1//EN
BEGIN:VEVENT
UID:14975@liguecentrett.com
DTSTART:20231028T073000Z
DTEND:20231028T170000Z
DTSTAMP:20230918T124850Z
URL:https://liguecentrett.com/events/juge-arbitre-1-36-2023/
SUMMARY:Juge Arbitre 1 - 36 - 2023
DESCRIPTION:&nbsp\;\n\n&nbsp\;\nJe m'inscris
CATEGORIES:Formations,Formations arbitres
LOCATION:Comité de l'Indre de Tennis de Table\, 89 allée des Platanes\, C
 hateauroux\, France
GEO:46.789361;1.696352
X-APPLE-STRUCTURED-LOCATION;VALUE=URI;X-ADDRESS=89 allée des Platanes\, Ch
 ateauroux\, France;X-APPLE-RADIUS=100;X-TITLE=Comité de l'Indre de Tennis
  de Table:geo:46.789361,1.696352
END:VEVENT
END:VCALENDAR