BEGIN:VCALENDAR
VERSION:2.0
PRODID:-//wp-events-plugin.com//7.2.3.1//EN
BEGIN:VEVENT
UID:15274@liguecentrett.com
DTSTART:20250621T100000Z
DTEND:20250621T170000Z
DTSTAMP:20250609T203302Z
URL:https://liguecentrett.com/events/journee-feminine-multi-activites-val-
 dauron-bourges-2025/
SUMMARY:Journée féminine multi-activités Val d’Auron Bourges 2025
DESCRIPTION:\n\n&nbsp\;\n\nVenez nombreux à l'étape 1 de l'été ping en 
 fête du Centre-Val de Loire\n\n&nbsp\;\n\n&nbsp\;\n\nToutes les informati
 ons en cliquant ici
CATEGORIES:Manifestation externe
END:VEVENT
END:VCALENDAR