BEGIN:VCALENDAR
VERSION:2.0
PRODID:-//wp-events-plugin.com//7.2.3.1//EN
BEGIN:VEVENT
UID:15342@liguecentrett.com
DTSTART:20251004T140000Z
DTEND:20251004T173000Z
DTSTAMP:20251114T154220Z
URL:https://liguecentrett.com/events/jeu-set-et-feminisation-cvl-2025/
SUMMARY:Jeu\, set et féminisation Centre-Val de Loire 2025
DESCRIPTION:[su_tab title="Présentation-inscription"]\n\n\n\nTour de Franc
 e des Régions Jeu\, set et féminisation\n\nLien d'inscription : S'INSC
 RIRE\n\n\n\n&nbsp\;\n\n&nbsp\;\n\n&nbsp\;\n\n&nbsp\;\n\nParticipez au ping
  féminin pour apporter vos idées\, en prendre de nouvelles et vous engag
 er pour un tennis de table toujours plus inclusif !\n\n[/su_tab]\n\n[su_ta
 b title="Bilan]\n\nCommunication du CROS\n\n[su_youtube url="https://youtu
 .be/Jxv4RrmRq40?si=JRaF2MhR0xBXbggn"]\n\n\n\n\n\n[/su_tab]\n\n[su_tabs]
ATTACH;FMTTYPE=image/jpeg:https://liguecentrett.com/wp-content/uploads/202
 5/09/news__20250218152859.jpg
CATEGORIES:Réunions
END:VEVENT
END:VCALENDAR