BEGIN:VCALENDAR
VERSION:2.0
PRODID:-//wp-events-plugin.com//7.2.3.1//EN
BEGIN:VEVENT
UID:15158@liguecentrett.com
DTSTART;VALUE=DATE:20250622
DTEND;VALUE=DATE:20250623
DTSTAMP:20250627T101935Z
URL:https://liguecentrett.com/events/interclubs-jeunes-2025/
SUMMARY:Interclubs Jeunes 2025
DESCRIPTION:[su_tabs]\n\n[su_tab title="Présentation"]\n\nPrésentation-In
 terclubs\n\nRèglement\n\nLes qualifiés sont issus des 6 départements su
 ite à leur compétition départementale\n\n[/su_tab]\n\n[su_tab title="Co
 nvocation"]\n\nPointage : 08h45 / Début : 09h30\n\n&nbsp\;\n\nListe des 
 équipes sélectionnées  (MAJ 15/05/2025)\nListe définitive des clubs p
 résents (MAJ 16/06/2025)\nHoraire Général (NEW 21/06/2025)\n\n[/su_tab]
 \n\n[su_tab title="Résultats"]\n\nInfos - Résultats et Classement du Cha
 llenge ICI\n\nChallenge Général : 1° 4S TOURS\, 2° C'Chartres\, 3° St
  Avertin Sports\n\nJuge Arbitre - Vivien LANCON\nDélégué - Philippe LEB
 ON - Rapport du délégué\n\n[/su_tab]\n\n[su_tab title="Photos"]\n\n\n\n
 [/su_tab]\n\n[/su_tabs]
CATEGORIES:Compétitions,compétitions Regionales et Nationales
LOCATION:TT Joué\, Rue Jean Monnet\, Joué-lès-Tours\, France
GEO:47.339474;0.657129
X-APPLE-STRUCTURED-LOCATION;VALUE=URI;X-ADDRESS=Rue Jean Monnet\, Joué-lè
 s-Tours\, France;X-APPLE-RADIUS=100;X-TITLE=TT Joué:geo:47.339474,0.65712
 9
END:VEVENT
END:VCALENDAR