BEGIN:VCALENDAR
VERSION:2.0
PRODID:-//wp-events-plugin.com//7.2.3.1//EN
BEGIN:VEVENT
UID:14897@liguecentrett.com
DTSTART;VALUE=DATE:20240330
DTEND;VALUE=DATE:20240331
DTSTAMP:20240408T093533Z
URL:https://liguecentrett.com/events/inter-comites-2024/
SUMMARY:Intercomités 2024
DESCRIPTION:[su_tabs]\n\n[/su_tab]\n\n[su_tab title="Convocation- Informati
 ons"]\nInfos Intercomités - Equipes - Rencontres - HG - POT - Résultats 
 - Classement\nInfo restauration AMO Mer\n\nDélégué de Ligue : Fabien CH
 APELLE\nJuge Arbitre Principal : Eric DUBEROS\nJuge Arbitre Responsable de
 s Epreuves et Spidman : Maxime ORGEBIN\nJuge Arbitre Responsable des Arbit
 res : Philippe LEBON\nJuges Arbitres de Travées : Alexis BOISSIERE\, Mic
 kael MANDARD\, Cathy NEILZ\, Gilles FORHAN\nArbitres désignés par la Com
 mission Départementale d’Arbitrage : Laurent BOISGARD\, Delphine BOISGA
 RD\, Yanis BOISGARD\, Marc MORDELET\, Jean-Marc GUIMONT\, Christophe DULOU
 \, David IAPICHELLA\, Mattéo GALLARD.\nPratique AR : Anthony LE FOYE et F
 rédéric JOUBERT.\nArbitres des Délégations :\nCD 18 : FOUCHERAND Mé
 lanie – BRUNET Pierre\nCD 28 : BOUTHIER Bintou – MINEUR Octave\nCD 36
  : PRUDHOMME Olivier – NEVEU Thierry\nCD 41 : CHASLES Emma -KONINGUE D
 imitri\nCD 45 : CHEVY Laurent – en attente\nRéunion des Arbitres et J.
 A. de travées à 8h45\nRapport du Délégué : Fabien Chapelle\n\n[/su_ta
 b]\n[su_tab title="Photos"]\n\n[/su_tab]\n[/su_tabs]\n\n&nbsp\;
CATEGORIES:Compétitions
LOCATION:AMO Mer TT\, rue des Berthelottes \, Mer\, 41500\, France
GEO:47.69757;1.497638
X-APPLE-STRUCTURED-LOCATION;VALUE=URI;X-ADDRESS=rue des Berthelottes \, Mer
 \, 41500\, France;X-APPLE-RADIUS=100;X-TITLE=AMO Mer TT:geo:47.69757,1.497
 638
END:VEVENT
END:VCALENDAR