BEGIN:VCALENDAR
VERSION:2.0
PRODID:-//wp-events-plugin.com//7.2.3.1//EN
BEGIN:VEVENT
UID:15027@liguecentrett.com
DTSTART:20240322T130000Z
DTEND:20240322T133000Z
DTSTAMP:20240318T120455Z
URL:https://liguecentrett.com/events/info-eclair/
SUMMARY:Info éclair
DESCRIPTION:Nous vous donnons rendez-vous vendredi 22 mars de 13h à 13h30
  pour une information éclair sur l'été ping 2024 et les modalités
  d'animations estivales en lien avec les JOP et les aides aux clubs : h
 ttps://us02web.zoom.us/j/84263022071
CATEGORIES:Formations Dirigeants
END:VEVENT
END:VCALENDAR