BEGIN:VCALENDAR
VERSION:2.0
PRODID:-//wp-events-plugin.com//7.2.3.1//EN
BEGIN:VEVENT
UID:15356@liguecentrett.com
DTSTART:20251110T193000Z
DTEND:20251110T213000Z
DTSTAMP:20251015T202642Z
URL:https://liguecentrett.com/events/hugo-calderano-vs-vitor-ishy-match/
SUMMARY:Hugo Calderano vs Vitor Ishy match
DESCRIPTION:Le C'Chartres Tennis de Table a le plaisir d’inviter l’ense
 mble des clubs de la région à une soirée d'exception qui ravira tous le
 s passionnés de notre sport !\n\n\n\nLundi 10 novembre à 19h30\, venez a
 ssister à un match d’exhibition unique entre deux des plus grands nom
 s du tennis de table mondial :\n\nHugo Calderano\, vice-champion du monde 
 et actuel n°3 mondial\nVitor Ishiy\, joueur international brésilien de 
 haut niveau\n\nLieu : Complexe Sportif Rosskopf – Rue Raoul Brandon\, C
 hartres\n\nTarifs d’entrée :\n\n 	Adultes : 10 €\n 	Enfants (-12 ans
 ) : 6 €\n\nRéservation obligatoire via HelloAsso grâce au QR en pièc
 e jointe ou au lien suivant : https://www.helloasso.com/associations/c-ch
 artres-tennis-de-table/evenements/10-11-2025-19h30-match-exhibition-calder
 ano-vs-ishiy\n\nLes places étant limitées\, nous vous invitons à rése
 rver dès maintenant pour garantir votre participation à cette soirée s
 pectaculaire.\n\nAffiche Calderano\n\nC'est une occasion rare de voir évo
 luer en direct l’un des meilleurs joueurs de la planète !\n\nNous compt
 ons sur votre présence pour faire de cet événement un grand moment de p
 romotion du tennis de table dans notre région.\n\nSportivement\,\nL’éq
 uipe du C’Chartres Tennis de Table
ATTACH;FMTTYPE=image/jpeg:https://liguecentrett.com/wp-content/uploads/202
 5/10/CalderanoIshy.png
CATEGORIES:Manifestation externe
END:VEVENT
END:VCALENDAR