BEGIN:VCALENDAR
VERSION:2.0
PRODID:-//wp-events-plugin.com//7.2.3.1//EN
BEGIN:VEVENT
UID:14909@liguecentrett.com
DTSTART;VALUE=DATE:20240330
DTEND;VALUE=DATE:20240402
DTSTAMP:20240605T122515Z
URL:https://liguecentrett.com/events/france-veterans-2024/
SUMMARY:France Vétérans 2024
DESCRIPTION:[su_tabs]\n\n[/su_tab]\n\n[su_tab title="Présentation"]\n\nInf
 ormations ICI\n\n[/su_tab]\n\n[su_tab title="Résultats"]\n\nTous les rés
 ultats ici : Lien\n\n&nbsp\;\n\nRémi Royer (Saint-Avertin) : médaille d'
 or en double messieurs V1 avec Julien Pietropaoli\n\nChristian Joyau (4S T
 ours) : médaillé d'or en double messieurs V5 et médaillé de bronze en 
 double mixte\n\nAndré Viala (Semoy) : médaille de bronze en simple V5 et
  médaillé de bronze en double avec Raymon Girard (Semoy)\n\nXavier et Ch
 ristophe Raynal (Ingré) : médaille de bronze en double messieurs V1\n\nA
 nnick Bigot (La Membrolle) et Luc Delrive (C'Chartres) médaillé de bronz
 e en double mixte V4\n\n&nbsp\;\n\n[/su_tab]\n[su_tab title="Photos"]\n\n\
 n\n\n\n[/su_tab]\n[/su_tabs]\n\n
CATEGORIES:Compétitions
LOCATION:FFTT\, 3 rue Dieudonné Costes\, Paris\, France
GEO:48.820549;2.370069
X-APPLE-STRUCTURED-LOCATION;VALUE=URI;X-ADDRESS=3 rue Dieudonné Costes\, P
 aris\, France;X-APPLE-RADIUS=100;X-TITLE=FFTT:geo:48.820549,2.370069
END:VEVENT
END:VCALENDAR