BEGIN:VCALENDAR
VERSION:2.0
PRODID:-//wp-events-plugin.com//7.2.3.1//EN
BEGIN:VEVENT
UID:15144@liguecentrett.com
DTSTART;VALUE=DATE:20250524
DTEND;VALUE=DATE:20250526
DTSTAMP:20250724T211616Z
URL:https://liguecentrett.com/events/france-corpos-2025/
SUMMARY:France Corpos 2025
DESCRIPTION:Informations et résultats en direct\n\n&nbsp\;\n\nBien dans sa
  peau avec les Corpos!\n\nSuite et fin des championnats de France  corpos 
 avec Sophie Andre titrée en simple dames et double mixte avec Baptiste Po
 ncelet. Elle est également 3ème avec Maggy Guédon en double dames. 3èm
 e place en double messieurs pour Fabien Poncelet et Baptiste Poncelet\n\n&
 nbsp\;\n\n \n\n&nbsp\;\n\n&nbsp\;\n\n&nbsp\;\n\n&nbsp\;\n\n&nbsp\;\n\n&nbs
 p\;\n\n&nbsp\;\n\n
CATEGORIES:Compétitions,compétitions Regionales et Nationales
END:VEVENT
END:VCALENDAR