BEGIN:VCALENDAR
VERSION:2.0
PRODID:-//wp-events-plugin.com//7.2.3.1//EN
BEGIN:VEVENT
UID:15051@liguecentrett.com
DTSTART;VALUE=DATE:20250529
DTEND;VALUE=DATE:20250601
DTSTAMP:20250625T094945Z
URL:https://liguecentrett.com/events/france-benjamins-cadets-2025/
SUMMARY:France benjamins-cadets 2025
DESCRIPTION:[su_tabs]\n\n[/su_tab]\n\n[su_tab title="Présentation"]\n\nInf
 os Compétitions ICI\n\n[/su_tab]\n\n[su_tab title="Résultats"]\nTous les
  résultats ici : Lien\nRésultats détaillés\n\n&#x1f947\;Lou-Anne Bocqu
 et (TT Joué) championne de France cadette en double associée à Alexia N
 odin\n\n\n&#x1f947\; Titouan Morel-Gonzales (4S Tours) champion de France 
 cadet en double associée à Milan Pilate\n\n\n&#x1f948\; Titouan Morel-Go
 nzales (4S Tours) vice champion de France cadet en simple\n&#x1f948\; Anna
  Sousan (Luisant ACTT) vice-championne de France benjamine en double assoc
 iée à Alessandra Muller\n\n[/su_tab]\n[su_tab title="Photos"]\n\n \n\n\n
 &nbsp\;\n\n\n[/su_tab]\n[/su_tabs]
CATEGORIES:Compétitions,compétitions Regionales et Nationales
LOCATION:Lille Métropole TT\, 19 Boulevard d'Alsace\, Lille\, France
GEO:50.617815;3.063789
X-APPLE-STRUCTURED-LOCATION;VALUE=URI;X-ADDRESS=19 Boulevard d'Alsace\, Lil
 le\, France;X-APPLE-RADIUS=100;X-TITLE=Lille Métropole TT:geo:50.617815,3
 .063789
END:VEVENT
END:VCALENDAR