BEGIN:VCALENDAR
VERSION:2.0
PRODID:-//wp-events-plugin.com//7.2.3.1//EN
BEGIN:VEVENT
UID:14886@liguecentrett.com
DTSTART;VALUE=DATE:20240205
DTEND;VALUE=DATE:20240317
DTSTAMP:20240328T180829Z
URL:https://liguecentrett.com/events/formation-ja3-2023-2024/
SUMMARY:Formation JA3-2023-2024
DESCRIPTION:Le JA3\, est le Juge qui officie pour les Tournois. Cela perme
 t de pouvoir officier sur toutes les épreuves organisées sur le territoi
 re.\n\nLa formation se déroule avec plusieurs temps en visioconférence (
 5 x 2h) et 1 jour en présentiel (une WE) puis le passage d’une prati
 que réelle sous la tutelle d’un formateur.\n\nLorsque vous êtes JA3 e
 t que vous officiez lors d’une compétition régionale en tant que JA\, 
 vous recevez une indemnité de 45€ ou 40€ si vous êtes JA adjoint (+i
 ndemnités km).\n\n\nCoût de la formation :\n\n 	100€ en 1/2 pension\n
  	150€ en pension complète\n\n\n&nbsp\;\n\nlundi 5 février de 19h à 
 21h en visioconférence\n\nlundi 12 février de 19h à 21h en visioconfér
 ence\n\nlundi 9 février de 19h à 21h en visioconférence\n\nlundi 26 fé
 vrier de 19h à 21h en visioconférence\n\nlundi 4 mars de 19h à 21h en v
 isioconférence\n\nsamedi 16 mars en présentiel de 9h à 17h (lieu à dé
 terminer en fonction du lieu de résidence des stagiaires)\n\n&nbsp\;\n\nJ
 e m'inscris\n
CATEGORIES:Formations,Formations arbitres
END:VEVENT
END:VCALENDAR