BEGIN:VCALENDAR
VERSION:2.0
PRODID:-//wp-events-plugin.com//7.2.3.1//EN
BEGIN:VEVENT
UID:15325@liguecentrett.com
DTSTART;VALUE=DATE:20251108
DTEND;VALUE=DATE:20251110
DTSTAMP:20251109T201947Z
URL:https://liguecentrett.com/events/formation-initiateur-de-club-45/
SUMMARY:Formation initiateur de club - 45
DESCRIPTION:Organiser l'accueil des différents publics dans son club\n\nPr
 endre en main un groupe dans une séance prédéfinie\n\nAppréhender les 
 bases du jeu\nJe m'inscris
ATTACH;FMTTYPE=image/jpeg:https://liguecentrett.com/wp-content/uploads/202
 5/07/formations-techniques-1.png
CATEGORIES:Formations,Formations Techniques
END:VEVENT
END:VCALENDAR