BEGIN:VCALENDAR
VERSION:2.0
PRODID:-//wp-events-plugin.com//7.2.3.1//EN
BEGIN:VEVENT
UID:15324@liguecentrett.com
DTSTART;VALUE=DATE:20251011
DTEND;VALUE=DATE:20251116
DTSTAMP:20251109T202006Z
URL:https://liguecentrett.com/events/formation-initiateur-de-club-28/
SUMMARY:Formation initiateur de club - 28
DESCRIPTION:Organiser l'accueil des différents publics dans son club\n\nPr
 endre en main un groupe dans une séance prédéfinie\n\nAppréhender les 
 bases du jeu\n\n11 octobre et 15 novembre\n\n&nbsp\;\nJe m'inscris
ATTACH;FMTTYPE=image/jpeg:https://liguecentrett.com/wp-content/uploads/202
 5/07/formations-techniques-1.png
CATEGORIES:Formations,Formations Techniques
END:VEVENT
END:VCALENDAR