BEGIN:VCALENDAR
VERSION:2.0
PRODID:-//wp-events-plugin.com//7.2.3.1//EN
BEGIN:VEVENT
UID:15365@liguecentrett.com
DTSTART:20251202T193000Z
DTEND:20251202T210000Z
DTSTAMP:20251125T104725Z
URL:https://liguecentrett.com/events/formation-girpe-v2-comite-37/
SUMMARY:Formation Girpe V2 - Comité 37
DESCRIPTION:Nous avons le plaisir de vous inviter à une formation GIRPE V2
  qui aura lieu :\n\n&nbsp\;\n\n   Mardi 2 décembre 2025 à partir de 19
  h 30\n\nMaison des Sports de Touraine Michel Montaubin\n\n   Salle Jean
  Guérard (RDC)\n\nRue de l'Aviation - 37210 PARÇAY-MESLAY\n\n&nbsp\;\n\n
 La formation est à destination de toute personne qui peut être amenée 
 à utiliser GIRPE V2 de la départementale à la Nationale.\n\n&nbsp\;\n\n
 Informations :\n\n- 2 formateurs : Patrick RICHARD\, référent GIRPE V2 d
 ans le 37 et Jean-Paul CHILON\n\n- Amener son ordinateur (ou celui du club
 ) avec GIRPE V2 installé.\n\n&nbsp\;\n\nMerci de nous informer de votre p
 résence par retour de mail (nom du club et personne présente).
ATTACH;FMTTYPE=image/jpeg:https://liguecentrett.com/wp-content/uploads/202
 5/11/GIRPE_V2.png
CATEGORIES:Formations
LOCATION:Comité d'Indre-et-Loire de Tennis de Table\, rue de l'Aviation\, 
 Parçay-Meslay\, 37210\, Centre Val de Loire\, France
GEO:47.438233;0.708758
X-APPLE-STRUCTURED-LOCATION;VALUE=URI;X-ADDRESS=rue de l'Aviation\, Parçay
 -Meslay\, 37210\, Centre Val de Loire\, France;X-APPLE-RADIUS=100;X-TITLE=
 Comité d'Indre-et-Loire de Tennis de Table:geo:47.438233,0.708758
END:VEVENT
END:VCALENDAR