BEGIN:VCALENDAR
VERSION:2.0
PRODID:-//wp-events-plugin.com//7.2.3.1//EN
BEGIN:VEVENT
UID:14902@liguecentrett.com
DTSTART;VALUE=DATE:20240526
DTEND;VALUE=DATE:20240527
DTSTAMP:20240602T173428Z
URL:https://liguecentrett.com/events/finales-regionales-par-classement-202
 4/
SUMMARY:Finales Régionales par Classement 2024
DESCRIPTION:[su_tabs]\n\n[/su_tab]\n\n[su_tab title="Convocation"]\n\nConvo
 cation\n\nListes définitives au 23/05/2024\n\n[/su_tab]\n\n[su_tab title=
 "Résultats Aubigny"]\n\nRésultats SPID\n\nRésultats en Direct\n\nRappor
 t délégué - Philippe LEBON\n\n[/su_tab]\n\n[su_tab title="Résultats Fo
 ntaine-la-Guyon"]\n\nRésultats SPID\n\nRésultats en Direct\n\n&nbsp\;\n\
 nRapport délégué\n\n[/su_tab]\n[su_tab title="Photos Aubigny"]\n\n\n\n[
 /su_tab]\n[/su_tabs]
CATEGORIES:Compétitions
END:VEVENT
END:VCALENDAR