BEGIN:VCALENDAR
VERSION:2.0
PRODID:-//wp-events-plugin.com//7.2.3.1//EN
BEGIN:VEVENT
UID:15159@liguecentrett.com
DTSTART;VALUE=DATE:20250628
DTEND;VALUE=DATE:20250630
DTSTAMP:20250617T073825Z
URL:https://liguecentrett.com/events/ffc-2025/
SUMMARY:Finales Fédérales par Classement 2025
DESCRIPTION:
CATEGORIES:Compétitions,compétitions Regionales et Nationales
LOCATION:PPC Villeneuve-sur-Lot\, Avenue d'Agen\, Villeneuve sur Lot\, Fran
 ce
GEO:44.393987;0.709242
X-APPLE-STRUCTURED-LOCATION;VALUE=URI;X-ADDRESS=Avenue d'Agen\, Villeneuve 
 sur Lot\, France;X-APPLE-RADIUS=100;X-TITLE=PPC Villeneuve-sur-Lot:geo:44.
 393987,0.709242
END:VEVENT
END:VCALENDAR