BEGIN:VCALENDAR
VERSION:2.0
PRODID:-//wp-events-plugin.com//7.2.3.1//EN
BEGIN:VEVENT
UID:15270@liguecentrett.com
DTSTART;VALUE=DATE:20240506
DTEND;VALUE=DATE:20240707
DTSTAMP:20250508T114018Z
URL:https://liguecentrett.com/events/fete-des-4-7-ans-2025/
SUMMARY:Fête des 4-7 ans 2025
DESCRIPTION:[su_tabs]\n\n[/su_tab]\n\n[su_tab title="Aides ligue"]\n\n1- Ac
 cueillez une formation 4-7 ans et recevez une aide financière et du maté
 riel pour votre club !\n\n2- Déclarez vos actions 4-7 ans en envoyant un 
 mail roma1bardin@gmail.com et recevez du matériel et des cadeaux !\n\nCon
 tact Romain Bardin - 0668101477 pour bénéficier d'une aide !\n\n[/su_tab
 ]\n\n[su_tab title="Aides FFTT"]\n\nDu 6 mai au 6 juillet 2025\, la Fête 
 du Ping 4-7 ans débarque ! Retrouvez ci-dessous les informations sur cett
 e nouvelle édition.\n\nL’événement pongiste réservé aux tout-petits
  est de retour en 2025 ! Cette fête\, destinée à mettre en avant les s
 ections existantes ou à préparer la saison prochaine en proposant une an
 imation ouverte à tous (à l’école\, en kermesse\, au club etc.) est u
 n réel moment fort pour les plus jeunes de nos licenciés\, leur famille 
 et les éducateurs. L’édition 2025 se déroulera du mardi 6 mai au dima
 nche 6 juillet 2025.\n\nL’objectif est de valoriser et recenser le trava
 il réalisé dans les clubs\, comités et ligues. Afin d'accompagner ses s
 tructures dans la mise en place de leur événement\, la FFTT offrira des 
 goodies\, sur inscription préalable via le formulaire ci-après.\n\nACCÉ
 DER AU FORMULAIRE\n\nComme chaque saison\, un jeu concours est également 
 proposé\, permettant à deux structures de gagner une mini table.\n\nTout
 es les informations concernant celui-ci sont disponibles sur la page déd
 iée.\n\nPour toute question\, vous pouvez contacter Lucie Coulon : lucie
 .coulon@fftt.org\n\nSoyez originaux\, amusez-vous et faites sourire enfant
 s et adultes !\n\n&nbsp\;\n\n[/su_tab]\n\n[su_tab title="Bilan de l'actio
 n"]\n\n&nbsp\;\n\n&nbsp\;\n\n&nbsp\;\n\n[/su_tab]\n[/su_tabs]
ATTACH;FMTTYPE=image/jpeg:https://liguecentrett.com/wp-content/uploads/202
 5/05/news__20250429121922.jpg
CATEGORIES:Manifestation externe
END:VEVENT
END:VCALENDAR