BEGIN:VCALENDAR
VERSION:2.0
PRODID:-//wp-events-plugin.com//7.2.3.1//EN
BEGIN:VEVENT
UID:15273@liguecentrett.com
DTSTART;VALUE=DATE:20250621
DTEND;VALUE=DATE:20250922
DTSTAMP:20250911T211316Z
URL:https://liguecentrett.com/events/ete-ping-en-fete-2025/
SUMMARY:Été ping en fête 2025
DESCRIPTION:[su_tabs]\n\n[/su_tab]\n\n[su_tab title="Aides ligue"]\n\n1- La
  page spécifique dédié de la FFTT -   Guide d'animation\n\n2- Soutie
 n en matériel (tables et sols spécifiques\, kit de communcation)\, réco
 mpenses (goodies\, t-shirt) ressources humaines (salariés et bénévoles)
  et financières (prise en charge labellisation et tombola) à tous les or
 ganisateurs d'évènements référencés pilotage ligue dans le cadre du d
 ispositif "Été Ping en fête"\n\n3- Soutien spécifique aux actions ét
 é ping en fête notamment via le PSF 2024\n\n4- Soutien au cas par cas à
  toutes les structures ayant décidé de candidater seules\n\nContact Roma
 in Bardin - roma1bardin@gmail.com pour bénéficier d'une aide !\n\n[/su_t
 ab]\n\n[su_tab title="Calendrier"]\nLes principales animations - Inscripti
 on\n21 juin : Journée féminine multi-activités Val d’Auron Bourges (1
 8) - étape 1 de la tournée régionale\n\n28 juin : 90 ans du F.L. St Aig
 nan (41) - étape 2 de la tournée régionale\n\n29 juin : Mouille ton mai
 llot au Pays courvillois (28) - étape 3 de la tournée régionale\n\n5\, 
 9 et 19 juillet : Les estivales de Lamotte-Beuvron (41) - étape 4 de la t
 ournée régionale\n\n6 septembre : Été ping à Vierzon - étape 5 de la
  tournée régionale\n\n7 et 14 septembre : Braderie de Tours (37) et Tour
 s en fête - étape 6 de la tournée régionale\n\n[/su_tab]\n\n[su_tab ti
 tle="Photos juin"]\n\nBourges - Val d'Auron\n\n\n\nSaint Aignan - 90 ans d
 u club et Etape Proxi'Ping\n\n\n\nCourville Sur Eure - Mouille Ton Maillot
  et Etape Proxi'Ping\n\n\n\n[/su_tab]\n\n[su_tab title="Photos juillet"]\n
 \nLamotte Beuvron - Les Estiavles\, Escales en Sologne - 3 animations Prox
 i'Ping - 5\,9 et 19 Juillet et la création d'une section!\n\n\n\n&nbsp\;\
 n\n[/su_tab]\n\n[su_tab title="Photos août"]\n\n\n\n[/su_tab]\n\n[su_tab 
 title="Photos septembre"]\n\n \n\n   \n\n\n\n&nbsp\;\n\n[/su_tab]\n[/su_t
 abs]
ATTACH;FMTTYPE=image/jpeg:https://liguecentrett.com/wp-content/uploads/202
 5/06/posts__20250331005621.jpg
CATEGORIES:Manifestation externe
END:VEVENT
END:VCALENDAR