BEGIN:VCALENDAR
VERSION:2.0
PRODID:-//wp-events-plugin.com//7.2.3.1//EN
BEGIN:VEVENT
UID:15328@liguecentrett.com
DTSTART:20250907T100000Z
DTEND:20250914T180000Z
DTSTAMP:20250728T085855Z
URL:https://liguecentrett.com/events/ete-ping-4s/
SUMMARY:Été ping en fête avec la 4S Tours
DESCRIPTION:Venez participer à l'étape 6 - été ping en fête  avec le 
 7/09 à la braderie et le 14/09 lors de la fête du sport avec :\n\n 	1 to
 urnoi en extérieur en simple et par équipe avec pour objectif de viser d
 es gobelets avec une balle.\n\n&nbsp\;\n\n 	Plusieurs défis : - concours 
 de chamboul’Ping - Renvoi de balles du robot - ...\n\n&nbsp\;\n\n 	1 dé
 monstration avec les meilleurs joueurs locaux\n\n&nbsp\;\n\n&nbsp\;\n\nIns
 cription\n\n\n\n&nbsp\;
ATTACH;FMTTYPE=image/jpeg:https://liguecentrett.com/wp-content/uploads/202
 5/07/ete-ping-en-fete-QR-code.png
CATEGORIES:Manifestation externe
END:VEVENT
END:VCALENDAR