BEGIN:VCALENDAR
VERSION:2.0
PRODID:-//wp-events-plugin.com//7.2.3.1//EN
BEGIN:VEVENT
UID:15278@liguecentrett.com
DTSTART:20250906T150000Z
DTEND:20250906T180000Z
DTSTAMP:20250712T125726Z
URL:https://liguecentrett.com/events/cup-pong-a-vierzon-ping/
SUMMARY:Cup Pong à Vierzon Ping
DESCRIPTION:Venez participer à l'étape 5 - été ping en fête avec :\n\n
  	1 tournoi en extérieur en simple et par équipe avec pour objectif de v
 iser des gobelets avec une balle.\n\n&nbsp\;\n\n 	Plusieurs défis : - con
 cours de chamboul’Ping - Renvoi de balles du robot - ...\n\n&nbsp\;\n\n 
 	1 démonstration avec les meilleurs joueurs locaux\n\n&nbsp\;\n\n&nbsp\;\
 n\nInscription\n\n
ATTACH;FMTTYPE=image/jpeg:https://liguecentrett.com/wp-content/uploads/202
 5/06/cup-pong-2.png
CATEGORIES:Manifestation externe
LOCATION:Vierzon Ping\, 4 bis rue du Cavalier\, Vierzon\, France
GEO:47.227009;2.062195
X-APPLE-STRUCTURED-LOCATION;VALUE=URI;X-ADDRESS=4 bis rue du Cavalier\, Vie
 rzon\, France;X-APPLE-RADIUS=100;X-TITLE=Vierzon Ping:geo:47.227009,2.0621
 95
END:VEVENT
END:VCALENDAR