BEGIN:VCALENDAR
VERSION:2.0
PRODID:-//wp-events-plugin.com//7.2.3.1//EN
BEGIN:VEVENT
UID:15287@liguecentrett.com
DTSTART;VALUE=DATE:20251121
DTEND;VALUE=DATE:20251124
DTSTAMP:20251204T145756Z
URL:https://liguecentrett.com/events/criterium-federal-tour-2-2025/
SUMMARY:Critérium Fédéral Tour 2 - 2025
DESCRIPTION:[su_tab title="Régional &amp\; National"]\n\nRégionale\n\n 	C
 onvocation Officielle (19/11/2025)\n 	Consignes Sportives\n 	Règlement r
 égional / Annexe\n 	Vérification de la licence et du certificat médical
 \n\nNationale 2 Elites\n\n 	Convocation Officielle (20/11/2025)\n 	Plaquet
 te organisation (04/11/2025)\n\nNationale 2 Jeunes\n\n 	Convocation Offici
 elle (19/11/2025)\n 	N2 Jeunes - Repêchage\n 	Affiche / Dossier Organisat
 ion (04/11/2025)\n 	QR Code Résultats en direct (05/11/2025)\n\nNationale
  1 Élite\n\nLieu : Jouè-Les-Tours\n\n 	Circulaire d'informations\n 	Dos
 sier organisateur\n 	Horaire général et résultats\n 	Répartition des j
 oueurs dans les tableaux A et B\n\n[/su_tab]\n\n[su_tab title="Résultats"
 ]\n\nRésultats Nat-Reg T2\n\n 	N2 Seniors (25/11/2025)\n 	N2 Jeunes (MAJ 
 01/12/2025)\n 	Régional (MAJ 04/12/2025)\n\n&nbsp\;\n\nRésultats en Dire
 ct\n\nJuniors Filles\, Cadettes\, Minimes Filles\, Benjamines à DEOLS :\n
 \nPoussins – Benjamins – Seniors Elite Dames à MOREE :\n\nMinimes Gar
 çons – Cadets à TOURS :\n\nSeniors Elite Messieurs – Juniors Garçon
 s à CHARTRES :\n\n[/su_tab]\n\n[su_tab title="Photos"]\n\n2ème Tour Rég
 ional 1\nChartres-Morée-Déols-Tours...en méli-mélo\n\n\n2èmé Tour Na
 tional 1\nJoué lès Tours\n\n\n\n&nbsp\;\n\n[/su_tab]\n\n[su_tabs]
ATTACH;FMTTYPE=image/jpeg:https://liguecentrett.com/wp-content/uploads/202
 5/10/CF2.png
CATEGORIES:Compétitions,compétitions Regionales et Nationales
END:VEVENT
END:VCALENDAR