BEGIN:VCALENDAR
VERSION:2.0
PRODID:-//wp-events-plugin.com//7.2.3.1//EN
BEGIN:VEVENT
UID:15284@liguecentrett.com
DTSTART;VALUE=DATE:20251017
DTEND;VALUE=DATE:20251020
DTSTAMP:20251104T141106Z
URL:https://liguecentrett.com/events/criterium-federal-tour-1-2025/
SUMMARY:Critérium Fédéral Tour 1 - 2025
DESCRIPTION:[su_tab title="Régional &amp\; National"]\n\nRégionale\n\n 	C
 onvocation Officielle (16/10/2025)\n 	Consignes Sportives\n 	Règlement r
 égional / Annexe\n 	Vérification de la licence et du certificat médical
 \n\n&nbsp\;\n\nNationale 2 Elites\n\n 	Convocation Officielle (16/10/2025)
 \n 	Plaquette organisation (26/09/2025)\n\n&nbsp\;\n\nNationale 2 Jeunes\n
 \n 	Convocation Officielle (16/10/2025)\n 	N2 Jeunes - Repêchage\n 	Dossi
 er Organisation (25/09/2025)\n 	Affiche\n\n[/su_tab]\n\n[su_tab title="Ré
 sultats"]\n\nRésultats Nat-Reg T1\n\n 	N2 Seniors (21/10/2025)\n 	N2 Jeun
 es (20/10/2025)\n 	Régional (29/10/2025)\n\n&nbsp\;\n\nRésultats en Dire
 ct\nJuniors Filles\, Cadettes\, Minimes Filles\, Benjamines à Saint Jean 
 le Blanc :\nhttps://drive.google.com/drive/folders/11Z0-v580OpcJoVRmW2v6tY
 o3pKXmjnbk?usp=drive_link\n\nPoussins - Benjamins - Seniors Elite Dames à
  Mer :\nhttps://drive.google.com/drive/folders/1yAwAUKovuKRuTHjGgCeVKCf1Yw
 q3cWhq?usp=drive_link\n\nMinimes Garçons - Cadets à Blanc (Le) :\nhttps:
 //drive.google.com/drive/folders/1MInoD6bFVp248Uby2SYEvNeme9fXWXD4?usp=dri
 ve_link\n\nSeniors Elite Messieurs - Juniors Garçons à Dreux :\nhttps://
 drive.google.com/drive/folders/1W_sDTd5-Y9DbZ9I_oY6tGjelBDDMMmTi?usp=drive
 _link\n\nN2 Elite Messieurs et Dames à Saint Avertin :\nhttps://drive.goo
 gle.com/drive/folders/1kdd4pxhSokhC7WRor9ZRy2bT1V5RO1r6?usp=drive_link\n&n
 bsp\;\n\n[/su_tab]\n\n[su_tab title="Photos"]\n\n&nbsp\;\n\n[/su_tab]\n\n[
 su_tabs]
ATTACH;FMTTYPE=image/jpeg:https://liguecentrett.com/wp-content/uploads/202
 5/10/CF1.png
CATEGORIES:Compétitions,compétitions Regionales et Nationales
END:VEVENT
END:VCALENDAR