BEGIN:VCALENDAR
VERSION:2.0
PRODID:-//wp-events-plugin.com//7.2.3.1//EN
BEGIN:VEVENT
UID:14954@liguecentrett.com
DTSTART;VALUE=DATE:20231028
DTEND;VALUE=DATE:20231029
DTSTAMP:20231123T213630Z
URL:https://liguecentrett.com/events/criterium-federal-nationale-1-handisp
 ort-orleans/
SUMMARY:CF Nationale 1 Handisport à Orléans
DESCRIPTION:Une journée pleine de réussite pour le CF nationale 1 Handisp
 ort à Orléans\n\n\n\n\n\n\n\n\n\n
CATEGORIES:Compétitions
LOCATION:Gymnases Jacques & Gaston Barthelemy\, 11 Rue Jeanne Jugan\, Orlé
 ans\, France
GEO:47.907106;1.920385
X-APPLE-STRUCTURED-LOCATION;VALUE=URI;X-ADDRESS=11 Rue Jeanne Jugan\, Orlé
 ans\, France;X-APPLE-RADIUS=100;X-TITLE=Gymnases Jacques & Gaston Barthele
 my:geo:47.907106,1.920385
END:VEVENT
END:VCALENDAR