BEGIN:VCALENDAR
VERSION:2.0
PRODID:-//wp-events-plugin.com//7.2.3.1//EN
BEGIN:VEVENT
UID:15120@liguecentrett.com
DTSTART;VALUE=DATE:20250314
DTEND;VALUE=DATE:20250317
DTSTAMP:20250318T084125Z
URL:https://liguecentrett.com/events/criterium-federal-j4-24-25/
SUMMARY:Critérium Fédéral - J4 - 24/25
DESCRIPTION:[su_tab title="Régional &amp\; National"]\n\nRégionale\n\n 	C
 onvocation Officielle (12/03/2025)\n 	Consignes Sportives\n 	Règlement r
 égional\n 	Vérification de la licence et du certificat médical\n\n[su_t
 ab title="Nationale 1 et 2"]\n\nNationale 2 Elites\n\n 	Convocation Offici
 elle (12/03/2025)\n 	Dossier Organisation (24/02/2025)\n\n&nbsp\;\n\nNatio
 nale 2 Jeunes\n\n 	Convocation Officielle (12/03/2025)\n 	N2 Jeunes - Rep
 êchage (12/03/2025)\n 	Dossier Organisation (24/02/2025)\n\n&nbsp\;\n\n 	
 Règlement CF N2 Zone 1 &amp\; 2\n\n[/su_tab]\n\n[su_tab title="Résultats
 "]\n\nRésultats complets (18/03/2025)\n\nRésultats Poussins\nRésultats 
 Benjamines-Minines\nRésultats Cadets-Juniors\nRésultats Filles \nRésul
 tats Elite F et H\n\nRésultats Spid\n\n[/su_tab]\n\n[su_tab title="Photos
 "]\n\nCJM BOURGES\n\n\n\nUS ORLEANS\n\n\n\nUS LA RICHE\n\n\n\nMAINTENON PI
 ERRE\n\n\n\nMER\n\n\n\n[/su_tab]\n\n[su_tabs]
CATEGORIES:Compétitions
END:VEVENT
END:VCALENDAR