BEGIN:VCALENDAR
VERSION:2.0
PRODID:-//wp-events-plugin.com//7.2.3.1//EN
BEGIN:VEVENT
UID:15084@liguecentrett.com
DTSTART;VALUE=DATE:20241122
DTEND;VALUE=DATE:20241125
DTSTAMP:20241213T120253Z
URL:https://liguecentrett.com/events/criterium-federal-j2-24-25/
SUMMARY:Critérium Fédéral - J2 - 24/25
DESCRIPTION:[su_tab title="Régional &amp\; National"]\n\nRégionale\n\n 	C
 onvocation Officielle (MAJ 21/11/2024)\n 	Consignes Sportives (01/10/2024
 )\n\n[su_tab title="Nationale 1 et 2"]\n\nNationale 2 Elites\n\n 	Convocat
 ion Officielle (MAJ 20/11/2024)\n 	Plaquette joueurs (MAJ 05/11/2024)\n 	Q
 R Code suivi compétition (MAJ 20/11/2024)\n\nNationale 2 Jeunes\n\n 	Conv
 ocation Officielle (MAJ 21/11/2024)\n 	N2 Jeunes - Repêchage (MAJ 21/11/2
 024)\n 	Plaquette joueurs (MAJ 05/11/2024)\n\n[/su_tab]\n\n[su_tab title="
 Résultats"]\n\nRésultats Nat-Reg T2_2024-2025 (MAJ 13/12/2024)\n\nRésul
 tats Spid\n\nRésultats – Vineuil : Poussins\nRésultats – Cinq Mars l
 a Pile : Filles\nRésultats – Fontaine La Guyon : Benjamins – Minimes\
 nRésultats – Châteauroux : Cadets – Juniors\nRésultats – Amilly :
  Messieurs – Dames\n\n[/su_tab]\n\n[su_tab title="Photos"]\n\nAmilly - E
 lite Dames et Messieurs\n\n\n\nVineuil - Poussins\n\n\n\nLangeais Cinq Mar
 s - Filles\n\n\n\nFontaine La Guyon - Benjamins/Minimes\n\n*\n\nChâteauro
 ux - Cadets/Juniors\n\n\n&nbsp\;\n\n&nbsp\;\n\n[/su_tab]\n\n[su_tabs]
CATEGORIES:Compétitions
END:VEVENT
END:VCALENDAR