BEGIN:VCALENDAR
VERSION:2.0
PRODID:-//wp-events-plugin.com//7.2.3.1//EN
BEGIN:VEVENT
UID:14947@liguecentrett.com
DTSTART;VALUE=DATE:20240504
DTEND;VALUE=DATE:20240505
DTSTAMP:20230809T105719Z
URL:https://liguecentrett.com/events/coupe-regionale-sport-adapte/
SUMMARY:Coupe régionale de sport adapté
DESCRIPTION:
CATEGORIES:Compétitions
LOCATION:RS St-Cyr-sur-Loire TT\, Allée René Coulon\, St-Cyr-sur-Loire\, 
 France
GEO:47.419136;0.655177
X-APPLE-STRUCTURED-LOCATION;VALUE=URI;X-ADDRESS=Allée René Coulon\, St-Cy
 r-sur-Loire\, France;X-APPLE-RADIUS=100;X-TITLE=RS St-Cyr-sur-Loire TT:geo
 :47.419136,0.655177
END:VEVENT
END:VCALENDAR