BEGIN:VCALENDAR
VERSION:2.0
PRODID:-//wp-events-plugin.com//7.2.3.1//EN
BEGIN:VEVENT
UID:15125@liguecentrett.com
DTSTART;VALUE=DATE:20250531
DTEND;VALUE=DATE:20250602
DTSTAMP:20250422T080220Z
URL:https://liguecentrett.com/events/coupe-nationale-veterans-2025/
SUMMARY:Coupe Nationale Vétérans 2025
DESCRIPTION:Informations Organisation\n\nTous les résultats ici : Lien\n\n
 &nbsp\;
CATEGORIES:Compétitions,compétitions Regionales et Nationales
LOCATION:Vern-sur-Seiche\, 16 rue de la Libération\, Vern-sur-Seiche\, Bre
 tagne\, 35770\, Ille-et-Vilaine\, France
GEO:48.048259;-1.604405
X-APPLE-STRUCTURED-LOCATION;VALUE=URI;X-ADDRESS=16 rue de la Libération\, 
 Vern-sur-Seiche\, Bretagne\, 35770\, Ille-et-Vilaine\, France;X-APPLE-RADI
 US=100;X-TITLE=Vern-sur-Seiche:geo:48.048259,-1.604405
END:VEVENT
END:VCALENDAR