BEGIN:VCALENDAR
VERSION:2.0
PRODID:-//wp-events-plugin.com//7.2.3.1//EN
BEGIN:VEVENT
UID:15314@liguecentrett.com
DTSTART;VALUE=DATE:20260517
DTEND;VALUE=DATE:20260518
DTSTAMP:20260410T085142Z
URL:https://liguecentrett.com/events/coupe-mixte-regionale-2026/
SUMMARY:Coupe Mixte Régionale 2026
DESCRIPTION:[su_tabs]\n\n[su_tab title="Convocation"]\n\nConvocation (en at
 tente)\n\nListe des équipes sélectionnées (10/04/2026)\n\nEtat des rép
 onses\n\nListes définitives des équipes ayant confirmé\n\nRèglement\n\
 n[/su_tab]\n\n[su_tab title="Résultats - Photos"]\n\nRésultats sur moncl
 ub.fftt.com\nRésultats détaillés et Photos\n&nbsp\;\n\n[/su_tab]\n\n[/s
 u_tabs]
ATTACH;FMTTYPE=image/jpeg:https://liguecentrett.com/wp-content/uploads/202
 5/07/coupe-mixte-regionale.png
CATEGORIES:Compétitions,compétitions Regionales et Nationales
LOCATION:A.T.T. Langeais-Cinq-Mars\, Allée du Clos Christophe\, Langeais\,
  France
GEO:47.344888;0.453631
X-APPLE-STRUCTURED-LOCATION;VALUE=URI;X-ADDRESS=Allée du Clos Christophe\,
  Langeais\, France;X-APPLE-RADIUS=100;X-TITLE=A.T.T. Langeais-Cinq-Mars:ge
 o:47.344888,0.453631
END:VEVENT
END:VCALENDAR