BEGIN:VCALENDAR
VERSION:2.0
PRODID:-//wp-events-plugin.com//7.2.3.1//EN
BEGIN:VEVENT
UID:14903@liguecentrett.com
DTSTART;VALUE=DATE:20240609
DTEND;VALUE=DATE:20240610
DTSTAMP:20240613T181345Z
URL:https://liguecentrett.com/events/coupe-mixte-regionale-2024/
SUMMARY:Coupe Mixte Régionale 2024
DESCRIPTION:[su_tabs]\n\n[su_tab title="Présentation"]\n\n\n\n[/su_tab]\n\
 n[su_tab title="Convocation"]\n\nConvocation\n\nListe des équipes sélect
 ionnées\n\nListes définitives des équipes ayant confirmé (MAJ 04/06/20
 24)\n\nRèglement\n\nDélégué de Ligue : Plhilippe LEBON\nJuge Arbitre :
  Jean - Yves GALLARD - 06.14.37.03.33\n\n[/su_tab]\n\n[su_tab title="Résu
 ltats"]\n\nRésultats spid\nInfos - Résultats en Direct\n\nCompte-rendu d
 u délégué\n\n[/su_tab]\n[su_tab title="Photos"]\n\n&nbsp\;\n\n&nbsp\;\n
 \n[/su_tab]\n[/su_tabs]
CATEGORIES:Compétitions
LOCATION:CH Châteaudun TT\, 19 rue Louis Appert\, Chateaudun\, 28200\, Fra
 nce
GEO:48.086322;1.351491
X-APPLE-STRUCTURED-LOCATION;VALUE=URI;X-ADDRESS=19 rue Louis Appert\, Chate
 audun\, 28200\, France;X-APPLE-RADIUS=100;X-TITLE=CH Châteaudun TT:geo:48
 .086322,1.351491
END:VEVENT
END:VCALENDAR