BEGIN:VCALENDAR
VERSION:2.0
PRODID:-//wp-events-plugin.com//7.2.3.1//EN
BEGIN:VEVENT
UID:15016@liguecentrett.com
DTSTART:20240129T193000Z
DTEND:20240129T213000Z
DTSTAMP:20240122T075434Z
URL:https://liguecentrett.com/events/coupe-deurope/
SUMMARY:Coupe d'Europe
DESCRIPTION:
ATTACH;FMTTYPE=image/jpeg:https://liguecentrett.com/wp-content/uploads/202
 4/01/419855742_840043504798053_867496856858402808_n.png
LOCATION:TT Joué\, Rue Jean Monnet\, Joué-lès-Tours\, France
GEO:47.339474;0.657129
X-APPLE-STRUCTURED-LOCATION;VALUE=URI;X-ADDRESS=Rue Jean Monnet\, Joué-lè
 s-Tours\, France;X-APPLE-RADIUS=100;X-TITLE=TT Joué:geo:47.339474,0.65712
 9
END:VEVENT
END:VCALENDAR