BEGIN:VCALENDAR
VERSION:2.0
PRODID:-//wp-events-plugin.com//7.2.3.1//EN
BEGIN:VEVENT
UID:15329@liguecentrett.com
DTSTART;VALUE=DATE:20251026
DTEND;VALUE=DATE:20251108
DTSTAMP:20251120T165932Z
URL:https://liguecentrett.com/events/concours-photo-les-feminines-dans-lob
 jectif/
SUMMARY:Concours photo "Les féminines dans l'objectif"
DESCRIPTION:[su_tab title="Règlement"]\n\n&nbsp\;\n\nRèglement\n\nCandid
 ature du 1er septembre au 25 octobre\n\n&nbsp\;\n\n&nbsp\;\n\n&nbsp\;\n\n&
 nbsp\;\n\n&nbsp\;\n\n[/su_tab]\n\n[su_tab title="Votes"]\n\nÀ vos votes d
 u 26 octobre au 7 novembre : ici\n\n\n\n&nbsp\;\n\n&nbsp\;\n\n&nbsp\;\n\n&
 nbsp\;\n\n&nbsp\;\n\n[/su_tab]\n\n[su_tab title="Résultats"]\n\nPlus de 7
 00 votes !\n\nRésultats du concours photo "Les féminines dans l'objectif
 " :\n\n\nPrix des internautes  : Thomas et Thomas Knockaert - Léna Knocka
 ert\nPrix du conseil de Ligue  : Stéphane Guillot - Margaux Rouet\nPrix d
 e la commission féminine : Pauline Pipart - Justine Barakat\nPrix des fin
 anceurs  : Camille Bonneau - Cara Galand\nPrix coup de coeur  : Sarah Neil
 z - Cathy Neilz (sélectionnées en amont de l'ouverture des votes pour la
  valorisation de l'engagement)\n\n\n\n\n[/su_tab]\n\n[su_tabs]
ATTACH;FMTTYPE=image/jpeg:https://liguecentrett.com/wp-content/uploads/202
 5/07/Affiche.png
CATEGORIES:Manifestation externe
END:VEVENT
END:VCALENDAR