BEGIN:VCALENDAR
VERSION:2.0
PRODID:-//wp-events-plugin.com//7.2.3.1//EN
BEGIN:VEVENT
UID:15363@liguecentrett.com
DTSTART;VALUE=DATE:20251201
DTEND;VALUE=DATE:20251207
DTSTAMP:20251106T121525Z
URL:https://liguecentrett.com/events/changeons-de-regards-st-marceau-orlea
 ns-2025/
SUMMARY:Changeons de regards St Marceau Orléans 2025
DESCRIPTION:
ATTACH;FMTTYPE=image/jpeg:https://liguecentrett.com/wp-content/uploads/202
 5/11/CDR.jpg
CATEGORIES:Manifestation externe
END:VEVENT
END:VCALENDAR