BEGIN:VCALENDAR
VERSION:2.0
PRODID:-//wp-events-plugin.com//7.2.3.1//EN
BEGIN:VEVENT
UID:15230@liguecentrett.com
DTSTART;VALUE=DATE:20241125
DTEND;VALUE=DATE:20241201
DTSTAMP:20241127T151721Z
URL:https://liguecentrett.com/events/changeons-de-regards-2024/
SUMMARY:Changeons de regards 2024
DESCRIPTION:\n\nChangeons de regard 2024 (1)
CATEGORIES:Manifestation externe
LOCATION:Gymnase Bernard Pellé\, 2 Rue Honoré d'Estienne d'Orves\, Orléa
 ns\, France
GEO:47.885342;1.903787
X-APPLE-STRUCTURED-LOCATION;VALUE=URI;X-ADDRESS=2 Rue Honoré d'Estienne d'
 Orves\, Orléans\, France;X-APPLE-RADIUS=100;X-TITLE=Gymnase Bernard Pell
 é:geo:47.885342,1.903787
END:VEVENT
END:VCALENDAR