BEGIN:VCALENDAR
VERSION:2.0
PRODID:-//wp-events-plugin.com//7.2.3.1//EN
BEGIN:VEVENT
UID:14986@liguecentrett.com
DTSTART;VALUE=DATE:20231118
DTEND;VALUE=DATE:20231119
DTSTAMP:20231109T095944Z
URL:https://liguecentrett.com/events/changeons-de-regards-2023/
SUMMARY:Changeons de regards 2023
DESCRIPTION:Mardi 14 novembre de 18h à 21h : tournoi de tennis de table
  « Vivre ensemble » par équipe (1 en situation de handicap et 1 valide
  par équipe »)\, ouvert à tous et gratuit !\n\nInscriptions par mail à
  : stmarceau.tt@free.fr\n\nJeudi 16 novembre à 18h : participation au
 x ateliers\, démonstration de haut niveau par nos champions. Gratuit.\
 n\n\nLe samedi 18 novembre de 9h à 17h30 se déroulera la compétition
  de sport adapté : nous cherchons des arbitres (diplôme non obligatoire)
 .\n\nA votre disposition si besoin.\n\n\n\n\nMarylène - Présidente\n\n\n
 CDR REP
CATEGORIES:Manifestation externe
LOCATION:St Marceau Orléans TT\, rue Honoré D'Estienne d'Orves\, Orléans
 \, France
GEO:47.885162;1.903299
X-APPLE-STRUCTURED-LOCATION;VALUE=URI;X-ADDRESS=rue Honoré D'Estienne d'Or
 ves\, Orléans\, France;X-APPLE-RADIUS=100;X-TITLE=St Marceau Orléans TT:
 geo:47.885162,1.903299
END:VEVENT
END:VCALENDAR