BEGIN:VCALENDAR
VERSION:2.0
PRODID:-//wp-events-plugin.com//7.2.3.1//EN
BEGIN:VEVENT
UID:14996@liguecentrett.com
DTSTART:20231123T193000Z
DTEND:20231123T213000Z
DTSTAMP:20231120T152433Z
URL:https://liguecentrett.com/events/champions-league-joue-vs-tarbobrzeg/
SUMMARY:Champions League Joué vs Tarbobrzeg
DESCRIPTION:Poule Qualificative - les deux premières sont qualifiées Info
 s complémentaires ICI
ATTACH;FMTTYPE=image/jpeg:https://liguecentrett.com/wp-content/uploads/202
 3/11/Sans-titre.jpg
CATEGORIES:Compétitions
LOCATION:TT Joué\, Rue Jean Monnet\, Joué-lès-Tours\, France
GEO:47.339474;0.657129
X-APPLE-STRUCTURED-LOCATION;VALUE=URI;X-ADDRESS=Rue Jean Monnet\, Joué-lè
 s-Tours\, France;X-APPLE-RADIUS=100;X-TITLE=TT Joué:geo:47.339474,0.65712
 9
END:VEVENT
END:VCALENDAR