BEGIN:VCALENDAR
VERSION:2.0
PRODID:-//wp-events-plugin.com//7.2.3.1//EN
BEGIN:VEVENT
UID:14910@liguecentrett.com
DTSTART;VALUE=DATE:20240322
DTEND;VALUE=DATE:20240325
DTSTAMP:20240411T114645Z
URL:https://liguecentrett.com/events/championnats-de-france-2024/
SUMMARY:Championnats de France 2024
DESCRIPTION:[su_tabs]\n\n[su_tab title="Information"]\n\nInformations Franc
 e 2024 ICI\n\n[/su_tab]\n\n[su_tab title="Résultats"]\n\nTous les résult
 ats et bilans ici : Lien\n\nDOUBLE MIXTE\n\n2 – Audrey ZARIF (TT Joué) 
 et Alexandre ROBINOT\n\nDOUBLE DAMES\n\n3 – Nolwen FORT (TT Joué) et Lu
 cie GAUTHIER\n\n&nbsp\;\n\n[/su_tab]\n\n[su_tab title="Photos"]\n\n\n\n&nb
 sp\;\n\n\n\n[/su_tab]\n\n[su_tabs]\n2.5.0.0
CATEGORIES:Compétitions
LOCATION:Montpellier TT\, 1000 Avenue du Val de Montferrand\, Montpellier\,
  France
GEO:43.638151;3.874161
X-APPLE-STRUCTURED-LOCATION;VALUE=URI;X-ADDRESS=1000 Avenue du Val de Montf
 errand\, Montpellier\, France;X-APPLE-RADIUS=100;X-TITLE=Montpellier TT:ge
 o:43.638151,3.874161
END:VEVENT
END:VCALENDAR