BEGIN:VCALENDAR
VERSION:2.0
PRODID:-//wp-events-plugin.com//7.2.3.1//EN
BEGIN:VEVENT
UID:15111@liguecentrett.com
DTSTART;VALUE=DATE:20250209
DTEND;VALUE=DATE:20250210
DTSTAMP:20250212T180609Z
URL:https://liguecentrett.com/events/championnats-cvl-ping-vr-2025/
SUMMARY:Championnats CVL Ping VR 2025
DESCRIPTION:[su_tabs]\n\n[su_tab title="Inscription"]\n\nCondition de parti
 cipation :\n- le joueur doit être licencié en région Centre-Val de Loir
 e\n- posséder son propre casque et le jeu eleven pour pouvoir participer 
 au championnat\n- avoir plus de 13ans\n\nUne animation se déroulera sur p
 lace afin de tester le jeu.\nDélégué de Ligue : Bruno Simon\nJuge Arbit
 re : Romain Bardin\n\n[/su_tab]\n\n[su_tab title="Programme"]\nProgramme d
 e la Journée\n9h45 : Accueil\n10h/10h30 : Explication du Jeu et organis
 ation du tournoi\n10h30/12h30 : Début du Championnat\n12h30/13h45 : Re
 stauration (buvette) et temps d'échange sur le Ping VR + rechargement 
 des casques\n13h45-14h/16h : Reprise du Championnat\nRemise des récompe
 nses\nDes Animations et Défis avec récompenses seront proposées aux per
 sonnes désirant tester cette nouvelle pratique.\n[/su_tab]\n\n[su_tab tit
 le="Résultats - Photos"]\n\nInfos Résultats et Photos\n\nPoules\nTableau
 x\n\nStéphane LELONG s'impose devant Romain Bardin et devient le nouveau 
 Champion de Ligue PIng VR 2025\nBelle organisation vierzonnaise jumelée a
 vec les remises aux records de Licences. Merci à Vierzon Ping et au Juge 
 Arbitre Nico ANGENON\n\n[/su_tab]\n[/su_tabs]
CATEGORIES:Compétitions
LOCATION:Vierzon Ping\, 4 bis rue du Cavalier\, Vierzon\, France
GEO:47.227009;2.062195
X-APPLE-STRUCTURED-LOCATION;VALUE=URI;X-ADDRESS=4 bis rue du Cavalier\, Vie
 rzon\, France;X-APPLE-RADIUS=100;X-TITLE=Vierzon Ping:geo:47.227009,2.0621
 95
END:VEVENT
END:VCALENDAR