BEGIN:VCALENDAR
VERSION:2.0
PRODID:-//wp-events-plugin.com//7.2.3.1//EN
BEGIN:VEVENT
UID:15362@liguecentrett.com
DTSTART:20260201T100000Z
DTEND:20260201T170000Z
DTSTAMP:20260202T084809Z
URL:https://liguecentrett.com/events/championnats-cvl-idf-ping-vr-2026/
SUMMARY:Championnats CVL-IDF Ping VR 2026
DESCRIPTION:[su_tabs]\n\n[su_tab title="Inscription"]\nJe m'inscris\nRendez
 -vous à la salle de réalité virtuelle EVA VR à Saran\n\n&nbsp\;\n\nCon
 dition de participation :\n- le joueur doit être licencié en région Cen
 tre-Val de Loire ou Ile-de-France\n- posséder son propre casque et le jeu
  eleven pour pouvoir participer au championnat\n- avoir plus de 13ans\n\nL
 imité à 16 joueurs par classement ELO\n\nUne animation se déroulera sur
  place afin de tester le jeu.\nDélégué de Ligue : Cyril Berthon\nJuge A
 rbitre : Kyllian Souchet\n\n[/su_tab]\n\n[su_tab title="Programme"]\nProgr
 amme de la Journée\n9h45 : Accueil\n10h/10h30 : Explication du Jeu et o
 rganisation du tournoi\n10h30/12h30 : Début du Championnat\n12h30/13h45
  : Restauration (buvette) et temps d'échange sur le Ping VR + recharg
 ement des casques\nObligation de restauration/consommation dans l'établis
 sement\n13h45-14h/16h : Reprise du Championnat\nRemise des récompenses\
 nDes Animations et Défis avec récompenses seront proposées aux personne
 s désirant tester cette nouvelle pratique.\n[/su_tab]\n\n[su_tab title="R
 ésultats - Photos"]\nRésultats détaillés et Photos\n1er Louis Traisnel
 \n\n2eme Nicolas Freville\n\n3eme Cyril Berthon\n\n4eme Stéphane Lelong\n
 \n[/su_tab]\n\n[su_tab title="Vidéos"]\n\n\n\n[/su_tab]\n\n[/su_tabs]
ATTACH;FMTTYPE=image/jpeg:https://liguecentrett.com/wp-content/uploads/202
 5/12/VR26.png
CATEGORIES:Compétitions,Manifestation externe
LOCATION:EVA Orléans VR\, Rue des Entrepreneurs\, Saran\, France
X-APPLE-STRUCTURED-LOCATION;VALUE=URI;X-ADDRESS=Rue des Entrepreneurs\, Sar
 an\, France;X-APPLE-RADIUS=100;X-TITLE=EVA Orléans VR:geo:0,0
END:VEVENT
END:VCALENDAR