BEGIN:VCALENDAR
VERSION:2.0
PRODID:-//wp-events-plugin.com//7.2.3.1//EN
BEGIN:VEVENT
UID:15225@liguecentrett.com
DTSTART;VALUE=DATE:20241221
DTEND;VALUE=DATE:20241222
DTSTAMP:20250827T141628Z
URL:https://liguecentrett.com/events/championnat-france-ping-vr/
SUMMARY:Championnat France Ping VR 2024
DESCRIPTION:&nbsp\;\n\n\n\nLes championnats de France de tennis de table en
  réalité virtuelle sont de retour ! Cette année\, après Nantes et Cey
 rat\, c’est à Tours\, le samedi 21 décembre\, que se déroulera cet é
 vénement après une première phase en distanciel ! L’occasion parfait
 e de venir essayer le pingVR et de voir s’affronter les meilleurs joueur
 s français\, dans la salle ou devant votre écran ! Découvrez ci-dessou
 s les informations majeures et le tirage au sort de la première phase.\n\
 nLe 21 décembre prochain\, le PingVR a rendez-vous à Tours ! C’est 
 à la salle Jean-Claude Cissé – Espace Rabelais de la cité blanche e
 t bleue que se dérouleront\, la troisième édition des championnats de F
 rance PingVR organisée par la 4S Tours Tennis de Table.\n\nToute la jour
 née\, les meilleurs joueurs français s’affronteront sur le jeu Eleven 
 Table Tennis à travers leur casque de réalité virtuelle et tenteront de
  succéder au palmarès à Antonin Landreau\, alias Anto\, absent cette an
 née. C’est donc un tout nouveau champion de France qui sera sacré à 
 Tours !\n\nUn événement majeur pour le sport en réalité virtuelle ou
 vert au public et gratuit qui sera l’occasion pour les passionnés de t
 ennis de table et/ou de jeux vidéo de venir s’essayer au pingVR\, tout 
 en assistant à la compétition. Au cours de la journée\, nombreuses sero
 nt les animations proposées à l’ensemble du public pour découvrir cet
 te nouvelle pratique développée par la FFTT en lien avec l’association
  Eleven France.\n\nNouvelle édition et nouvelle formule pour les champion
 nats de France pingVR !\n\nCette troisième édition verra s’affronter
  les 48 joueurs qualifiés grâce au Classic Series\, le circuit annuel
  de compétition en réalité virtuelle\, au cours de deux phases. Une pr
 emière en distanciel jusqu’au 18 novembre avec la phase de poules\, le
 s barrages entre les deuxièmes et troisièmes de chaque poule et les seiz
 ièmes de finale.\n\nÀ l’issue de cette première phase\, les 16 joueu
 rs encore en lice se retrouveront en présentiel pour la suite de la comp
 étition. Découvrez ci-dessous la composition des poules à la suite du t
 irage au sort grâce au lien qui vous permettra de suivre l’ensemble de 
 la compétition au fil des matchs qui ont d’ores et déjà débuté :\n
 \nSUIVRE LA COMPÉTITION\n\nLe site de l'organisateur : 4S TOURS TT\n\nPou
 r en savoir plus\, vous pouvez consulter le règlement des championnats d
 e France PingVR 2024.\n\nÀ l’instar des précédentes éditions\, ces c
 hampionnats de France seront également à suivre en direct\, depuis chez
  vous\, sur la chaîne Youtube de la Fédération. Une journée de stream
  qui vous permettra de tout savoir de la pratique\, de poser vos questions
  et de vibrer au rythme de la compétition !\n\n&nbsp\;\n\nKarl Vast alias
  Seldon36 (CTT Déols)\, champion de France dans sa région !\n\n\n\n&nbsp
 \;\n\n&nbsp\;
ATTACH;FMTTYPE=image/jpeg:https://liguecentrett.com/wp-content/uploads/202
 4/10/news__20241106165008.jpg
CATEGORIES:Compétitions
LOCATION:4S Tours TT\, 54 rue Saint Francois\, Tours\, 37000\, France
GEO:47.3816435;0.6664290999999594
X-APPLE-STRUCTURED-LOCATION;VALUE=URI;X-ADDRESS=54 rue Saint Francois\, Tou
 rs\, 37000\, France;X-APPLE-RADIUS=100;X-TITLE=4S Tours TT:geo:47.3816435,
 0.6664290999999594
END:VEVENT
END:VCALENDAR