BEGIN:VCALENDAR
VERSION:2.0
PRODID:-//wp-events-plugin.com//7.2.3.1//EN
BEGIN:VEVENT
UID:15355@liguecentrett.com
DTSTART;VALUE=DATE:20260523
DTEND;VALUE=DATE:20260525
DTSTAMP:20260423T120049Z
URL:https://liguecentrett.com/events/championnat-de-france-elite-handispor
 t-2026-st-marceau-orleans/
SUMMARY:Championnat de France élite handisport 2026 St Marceau Orléans
DESCRIPTION:
ATTACH;FMTTYPE=image/jpeg:https://liguecentrett.com/wp-content/uploads/202
 5/10/cdf.001.jpeg
CATEGORIES:Compétitions
END:VEVENT
END:VCALENDAR