BEGIN:VCALENDAR
VERSION:2.0
PRODID:-//wp-events-plugin.com//7.2.3.1//EN
BEGIN:VEVENT
UID:15000@liguecentrett.com
DTSTART;VALUE=DATE:20240218
DTEND;VALUE=DATE:20240219
DTSTAMP:20240218T175249Z
URL:https://liguecentrett.com/events/championnat-cvl-ping-vr-2024/
SUMMARY:Championnat CVL VR 2024
DESCRIPTION:[su_tabs]\n\n[su_tab title="Inscription"]\nFormulaire d'inscrip
 tion à compléter avant le 15/02\nCondition de participation :\n- le joue
 ur doit être licencié en région Centre-Val de Loire\n- posséder son pr
 opre casque et le jeu eleven pour pouvoir participer au championnat\n- avo
 ir plus de 13ans\n\nUne animation se déroulera sur place afin de tester l
 e jeu.\nDélégué de Ligue :\nJuge Arbitre : Nico Angenon\n\n[/su_tab]\n\
 n[su_tab title="Programme"]\nProgramme de la Journée\n9h45 : Accueil\n10
 h/10h30 : Explication du Jeu et organisation du tournoi\n10h30/12h30 : D
 ébut du Championnat\n12h30/13h45 : Restauration (buvette) et temps d'é
 change sur le Ping VR + rechargement des casques\n13h45-14h/16h : Repr
 ise du Championnat\nRemise des récompenses\nDes Animations et Défis ave
 c récompenses seront proposées aux personnes désirant tester cette nouv
 elle pratique.\n[/su_tab]\n\n[su_tab title="Résultats"]\n\nInfos Résulta
 ts ICI\n\nKarl Vast\, taille patron\, s'impose devant ...Stéphane Lelong 
 et Cyril Berthon sous la direction du JA spécialiste es Ping VR\n\n[/su_t
 ab]\n[su_tab title="Photos-Commentaires"]\n\n\n\n&nbsp\;\n\n[/su_tab]\n[/s
 u_tabs]
CATEGORIES:Compétitions
LOCATION:ES La Ville aux Dames TT\, 1 Ter rue Colette\, La-Ville-aux-Dames\
 , France
GEO:47.397626;0.7708
X-APPLE-STRUCTURED-LOCATION;VALUE=URI;X-ADDRESS=1 Ter rue Colette\, La-Vill
 e-aux-Dames\, France;X-APPLE-RADIUS=100;X-TITLE=ES La Ville aux Dames TT:g
 eo:47.397626,0.7708
END:VEVENT
END:VCALENDAR