BEGIN:VCALENDAR
VERSION:2.0
PRODID:-//wp-events-plugin.com//7.2.3.1//EN
BEGIN:VEVENT
UID:14894@liguecentrett.com
DTSTART;VALUE=DATE:20240622
DTEND;VALUE=DATE:20240624
DTSTAMP:20240628T092557Z
URL:https://liguecentrett.com/events/championnat-centre-val-de-loire-2024/
SUMMARY:Championnat Centre-Val de Loire 2024
DESCRIPTION:[su_tabs]\n\n[/su_tab]\n\n[su_tab title="Convocation"]\n\nRègl
 ement\n\nConvocation\n\nListes définitives Titres individuels régionaux 
 Simples \n\nListe Titres régionaux Doubles \n\nProcédure de confirmati
 on d'inscription\n\n[/su_tab]\n\n[su_tab title="Résultats - Infos"]\n\nR
 ésultats Titres régionaux LCVL 2023-2024 (28/06/2024)\n\nInfos et Résul
 tats ICI\nRésultats SPID\n\nDélégués Patrick Piau et Micgel Casy\nRapp
 ort du JA : Michel Casy\n\n[/su_tab]\n[su_tab title="Photos"]\n\n\n\n\n[/s
 u_tab]\n\n[/su_tabs]
CATEGORIES:Compétitions
LOCATION:TT Brenne Le Blanc\, 6 rue Jean Giraudoux\, Le Blanc\, France
GEO:46.633348;1.067575
X-APPLE-STRUCTURED-LOCATION;VALUE=URI;X-ADDRESS=6 rue Jean Giraudoux\, Le B
 lanc\, France;X-APPLE-RADIUS=100;X-TITLE=TT Brenne Le Blanc:geo:46.633348,
 1.067575
END:VEVENT
END:VCALENDAR