BEGIN:VCALENDAR
VERSION:2.0
PRODID:-//wp-events-plugin.com//7.2.3.1//EN
BEGIN:VEVENT
UID:15108@liguecentrett.com
DTSTART;VALUE=DATE:20250201
DTEND;VALUE=DATE:20250202
DTSTAMP:20240619T141416Z
URL:https://liguecentrett.com/events/championnat-2024-2025-j9/
SUMMARY:Championnat 2024-2025 - journée 9
DESCRIPTION:
CATEGORIES:Compétitions
END:VEVENT
END:VCALENDAR