BEGIN:VCALENDAR
VERSION:2.0
PRODID:-//wp-events-plugin.com//7.2.3.1//EN
BEGIN:VEVENT
UID:15126@liguecentrett.com
DTSTART;VALUE=DATE:20250329
DTEND;VALUE=DATE:20250330
DTSTAMP:20250226T085754Z
URL:https://liguecentrett.com/events/championnat-2024-2025-j11/
SUMMARY:Championnat 2024-2025 - journée 11
DESCRIPTION:
CATEGORIES:Compétitions,Equipes
END:VEVENT
END:VCALENDAR