BEGIN:VCALENDAR
VERSION:2.0
PRODID:-//wp-events-plugin.com//7.2.3.1//EN
BEGIN:VEVENT
UID:14906@liguecentrett.com
DTSTART;VALUE=DATE:20240227
DTEND;VALUE=DATE:20240301
DTSTAMP:20240229T105443Z
URL:https://liguecentrett.com/events/ch-de-france-des-regions-2024/
SUMMARY:Ch. de France des Régions 2024
DESCRIPTION:[su_tabs]\n\n[su_tab title="Présentation"]\nDélégation Centr
 e-Val de Loire\nRetrouvez toutes les Informations ICI\n&nbsp\;\n\n[/su_tab
 ]\n\n[su_tab title="Résultats"]\n\n\n\n\n\nRetrouvez tous les information
 s et résultats ICI\n\nPresse Locale - Le Petit Bleu (édition du 28 Févr
 ier)\n\n\n\n[/su_tab]\n\n[su_tab title="Photos"]\nArrivée et première jo
 urnée...\n\n\n2ème Journée\n\n\n\n3ème journée - Après une journée\
 , place aux matches de classement et aux demi-finales. Nos quatre équipes
  jouent pour la cinquième place...\n\n\n\n\n\nFin de matinée : Verdict 2
  équipes jouent pour 5° place et 2 autres pour la 7° Place. Chaude ambi
 ance digne des France des Régions....\n\n[/su_tab]\n\n[su_tabs]
CATEGORIES:Compétitions
LOCATION:SU Agen TT\, Avenue François Mitterand\, BOE\, Nouvelle Aquitaine
 \, 47550\, Nouvelle Aquitaine\, France
GEO:44.175165;0.636629
X-APPLE-STRUCTURED-LOCATION;VALUE=URI;X-ADDRESS=Avenue François Mitterand\
 , BOE\, Nouvelle Aquitaine\, 47550\, Nouvelle Aquitaine\, France;X-APPLE-R
 ADIUS=100;X-TITLE=SU Agen TT:geo:44.175165,0.636629
END:VEVENT
END:VCALENDAR