BEGIN:VCALENDAR
VERSION:2.0
PRODID:-//wp-events-plugin.com//7.2.3.1//EN
BEGIN:VEVENT
UID:14980@liguecentrett.com
DTSTART;VALUE=DATE:20231028
DTEND;VALUE=DATE:20231029
DTSTAMP:20231023T152514Z
URL:https://liguecentrett.com/events/cf-nationale-3-handi-j1-23-24/
SUMMARY:CF NATIONALE 3 HANDI J1 23-24
DESCRIPTION:
CATEGORIES:Compétitions
LOCATION:4S Tours TT\, 54 rue Saint Francois\, Tours\, 37000\, France
GEO:47.3816435;0.6664290999999594
X-APPLE-STRUCTURED-LOCATION;VALUE=URI;X-ADDRESS=54 rue Saint Francois\, Tou
 rs\, 37000\, France;X-APPLE-RADIUS=100;X-TITLE=4S Tours TT:geo:47.3816435,
 0.6664290999999594
END:VEVENT
END:VCALENDAR