BEGIN:VCALENDAR
VERSION:2.0
PRODID:-//wp-events-plugin.com//7.2.3.1//EN
BEGIN:VEVENT
UID:15384@liguecentrett.com
DTSTART;VALUE=DATE:20260413
DTEND;VALUE=DATE:20260511
DTSTAMP:20260415T190145Z
URL:https://liguecentrett.com/events/campagne-psf-2026/
SUMMARY:Campagne PSF 2026
DESCRIPTION:[su_tabs]\n\n[su_tab title="Bilan 2025"]\n\nVous avez obtenu un
 e subvention PSF 2025 ? Il est temps de préparer votre bilan !\n\nVous fa
 ites partie des structures ayant obtenu une subvention PSF en 2025. Les bi
 lans de toutes vos actions seront donc à compléter sur votre CompteAsso.
  Attention\, vous ne devez pas faire un copier coller entre votre budget p
 révisionnel et votre budget réalisé.\n\nCOMMENT COMPLÉTER SON BILAN SU
 R COMPTEASSO \n\nIMPORTANT : La plateforme pour déposer vos bilans est 
 d'ores et déjà ouverte.\n\nPOUR RAPPEL : Vous devrez absolument fournir
  les bilans de vos actions 2025 pour pouvoir déposer une demande 2026. To
 ute subvention 2025 reçue mais non justifiée fera l’objet d’un rembo
 ursement auprès de l’ANS.\n\n[/su_tab]\n\n[su_tab title="Campagne 2026"
 ]\n\nToutes les informations et documents de la FFTT ici : https://www.fft
 t.com/site/jouer/leviers-de-financement/psf-projet-sportif-federal-subvent
 ions\n\nNote de cadrage\n\nRépartition financière générale en attente\
 n\nRépartition financière détaillée en attente\n\nCréez ou actualisez
  votre dossier administratif sur la plateforme CompteAsso : https://lecomp
 teasso.associations.gouv.fr/\n\nDu Lundi 13 avril au dimanche 10 mai : d
 épôt des dossiers\n\nPour déposer la subvention\, il faut saisir le cod
 e : 1573\n\nLe club doit déposer 2 ou 3 actions dont 1 obligatoire parmi 
 les 5 au choix + 1 action optionnelle sur les thématiques suivantes :\n\n
 \n\n\n\nhttps://www.fftt.com/wp-content/uploads/2026/04/guide-psf26-clubs.
 pdf\n\n\n\n\n\n\n\n\nLes comités doit déposer 2 à 4 actions dont 1 obli
 gatoire parmi les 7 au choix sur les thématiques suivantes :\n\nhttps://w
 ww.fftt.com/wp-content/uploads/2026/04/guide-psf26-comites-departementaux.
 pdf\n\n&nbsp\;\n\nRomain BARDIN et vos dirigeants et cadres techniques de 
 Ligue et de Comités peuvent vous aider et vous assister. N'hésitez pas 
 à faire appel à eux !\n\nContacts : roma1bardin@gmail.com - 0668101477\n
 \n&nbsp\;\n\n[/su_tab]\n\n[su_tab title="Évaluation"]\n\nComposition de l
 a commission régionale d'évaluation\n\nDu 15 mai au 5 juin\, les membres
  de la commission régionale évaluent chaque dossier et une réunion fina
 le se déroule début juin pour décider des résultats.\n\nCompte-rendu d
 e la réunion de la commission régionale\n\nLa Ligue transmet ensuite son
  évaluation à la commission fédérale.\n\n&nbsp\;\n\n[/su_tab]\n\n[su_t
 ab title="Décision"]\n\nDu 5 juin au 30 juin\, la commission fédérale f
 ait une seconde évaluation.\n\nL'ANS valide les montants et effectue le p
 aiement durant l'été.\n\nRésultats clubs et comités\n\nRésultats ligu
 e\n\nStatistiques\n\nclubs ont postulé avec actions pour une demande de 
 € afin d'obtenir un minimum de € et ont eu €.\n\n6 comités ont post
 ulé avec actions pour une demande de € afin d'obtenir un maximum de €
  et ont eu €.\n\nLa ligue a postulé avec 6 actions pour une demande de 
 € et a obtenu €.\n\n[/su_tab]\n\n[su_tabs]
ATTACH;FMTTYPE=image/jpeg:https://liguecentrett.com/wp-content/uploads/202
 1/03/ans_logo_rvb_300-e1617721075574.jpg
CATEGORIES:Réunions
END:VEVENT
END:VCALENDAR