BEGIN:VCALENDAR
VERSION:2.0
PRODID:-//wp-events-plugin.com//7.2.3.1//EN
BEGIN:VEVENT
UID:15263@liguecentrett.com
DTSTART;VALUE=DATE:20250411
DTEND;VALUE=DATE:20250506
DTSTAMP:20260402T135247Z
URL:https://liguecentrett.com/events/campagne-psf-2025/
SUMMARY:Campagne PSF 2025
DESCRIPTION:[su_tabs]\n\n[su_tab title="Bilan 2024"]\n\nVous avez obtenu un
 e subvention PSF 2024 ? Il est temps de préparer votre bilan !\n\nVous fa
 ites partie des structures ayant obtenu une subvention PSF en 2024. Les bi
 lans de toutes vos actions seront donc à compléter sur votre CompteAsso.
 \n\nCOMMENT COMPLÉTER SON BILAN SUR COMPTEASSO \n\nIMPORTANT : La plate
 forme pour déposer vos bilans est d'ores et déjà ouverte.\n\nPOUR RAPPE
 L : Vous devrez absolument fournir les bilans de vos actions 2024 pour po
 uvoir déposer une demande 2025. Toute subvention 2024 reçue mais non jus
 tifiée fera l’objet d’un remboursement auprès de l’ANS.\n\n[/su_ta
 b]\n\n[su_tab title="Campagne 2025"]\n\nToutes les informations et documen
 ts de la FFTT ici : https://www.fftt.com/site/jouer/leviers-de-financement
 /psf-projet-sportif-federal-subventions\n\nNote de cadrage\n\nRépartition
  financière générale\n\nRépartition financière détaillée\n\nCréez 
 ou actualisez votre dossier administratif sur la plateforme CompteAsso : h
 ttps://lecompteasso.associations.gouv.fr/\n\nDu vendredi 11 avril au lun
 di 5 mai : dépôt des dossiers\n\nPour déposer la subvention\, il faut s
 aisir le code : 1573\n\nLe club doit déposer 2 ou 3 actions parmi les 5 a
 u choix + 1 action optionnelle sur les thématiques suivantes :\n\n\n\n\n\
 n\n\n\n\n\n\n\n\n\n\n\nLes comités doit déposer 2 à 4 actions dont 1 ob
 ligatoire parmi les 7 au choix sur les thématiques suivantes :\n\n\n\n\n\
 n&nbsp\;\n\nRomain BARDIN et vos dirigeants et cadres techniques de Ligue 
 et de Comités peuvent vous aider et vous assister. N'hésitez pas à fair
 e appel à eux !\n\nContacts : roma1bardin@gmail.com - 0668101477\n\n&nbsp
 \;\n\n[/su_tab]\n\n[su_tab title="Évaluation"]\n\nComposition de la commi
 ssion régionale d'évaluation\n\nDu 5 mai au 15 mai\, les membres de la c
 ommission régionale évaluent chaque dossier et une réunion finale se d
 éroule fin mai pour décider des résultats.\n\nCompte-rendu de la réuni
 on de la commission régionale\n\nLa Ligue transmet ensuite son évaluatio
 n à la commission fédérale.\n\n&nbsp\;\n\n[/su_tab]\n\n[su_tab title="D
 écision"]\n\nDu 15 mai au 15 juin\, la commission fédérale fait une sec
 onde évaluation.\n\nL'ANS valide les montants et effectue le paiement dur
 ant l'été.\n\nRésultats clubs et comités\n\nRésultats ligue\n\nStatis
 tiques\n\n27 clubs ont postulé avec 43 actions pour une demande de 157354
 € afin d'obtenir un minimum de 50429€ et ont eu 68261€.\n\n6 comité
 s ont postulé avec 22 actions pour une demande de 75900€ afin d'obtenir
  un maximum de 27171€ et ont eu 27171€.\n\nLa ligue a postulé avec 6 
 actions pour une demande de 30000€ et a obtenu 22500€.\n\n[/su_tab]\n\
 n[su_tabs]
ATTACH;FMTTYPE=image/jpeg:https://liguecentrett.com/wp-content/uploads/202
 1/03/ans_logo_rvb_300-e1617721075574.jpg
CATEGORIES:Réunions
END:VEVENT
END:VCALENDAR