BEGIN:VCALENDAR
VERSION:2.0
PRODID:-//wp-events-plugin.com//7.2.3.1//EN
BEGIN:VEVENT
UID:15271@liguecentrett.com
DTSTART:20250920T100000Z
DTEND:20250920T140000Z
DTSTAMP:20250923T125513Z
URL:https://liguecentrett.com/events/assemblee-generale-2025/
SUMMARY:Assemblée Générale 2025
DESCRIPTION:[su_tabs]\n\n[su_tab title="Convocation"]\n\nConvocation Assemb
 lée Générale 2025/Saison 2024-2025\n\nAnnexe 1 : Note réglementaire su
 r les pouvoirs et procurations\n\nAnnexe 2 : Fiche de pouvoir du délégu
 é\n\nAnnexe 3 : Fiche de Procuration\n\nAnnexe 4 : Lettre du Président\n
 \nAnnexe 5 : Acte de Candidature\n\nInvitation\n\nInscription au repas qui
  se déroulera pendant l'Assemblée générale (11h-13h30)\n\n[/su_tab]\n\
 n[su_tab title="Administratif et financier"]\n\nProcès Verbal de l'A.G. 2
 024\n\nListe Pointage des Clubs 2025\n\nDiscours du Président\n\nComptes 
 de résultats 2024-2025 - BP révisé 2025-2026 - BP 2026-2027\n\nComptes 
 annuels et méthodologie (dont bilan actif - passif 2024-2025)\n\nTarifs 2
 026-2027\n\nRapport vérificateurs aux comptes\n\n[/su_tab]\n\n[su_tab tit
 le="Sportif et développement"]\n\nBilan annuel du Conseiller Technique Na
 tional - Nicolas Metaireau\n\nBilan annuel du directeur : Romain Bardin\n\
 nBalle au Centre n°16\n\n[/su_tab]\n\n[su_tab title="Récompenses aux clu
 bs"]\n\nChallenge clubs corpos : Hôpital Vierzon Ping\n\nLes challenges 2
 024-2025\n\nLes clubs labellisés 2024-2025\n\n[/su_tab]\n\n[su_tab title=
 "Mérite Régional"]\n\nPas de mérites cette saison\n\n[/su_tab]\n\n[su_t
 ab title="Photos"]\n\n                      \n\n[/su_tab]\n\n[su_tab title
 ="Vidéos"]\n\n[su_youtube url="https://youtu.be/aaqsx0qtKa8?feature=share
 d"]\n\n[su_youtube url="https://youtu.be/aw47BJxa0_Y"]\n\n[su_youtube url=
 "https://youtu.be/VEHaTbqpEBo"]\n\n&nbsp\;\n\n[/su_tab]\n\n[/su_tabs]
ATTACH;FMTTYPE=image/jpeg:https://liguecentrett.com/wp-content/uploads/202
 5/08/AG.png
CATEGORIES:Réunions
LOCATION:Salle des fêtes\, Place de la résistance\, Châteaumeillant\, Fr
 ance
X-APPLE-STRUCTURED-LOCATION;VALUE=URI;X-ADDRESS=Place de la résistance\, C
 hâteaumeillant\, France;X-APPLE-RADIUS=100;X-TITLE=Salle des fêtes:geo:0
 ,0
END:VEVENT
END:VCALENDAR