BEGIN:VCALENDAR
VERSION:2.0
PRODID:-//wp-events-plugin.com//7.2.3.1//EN
BEGIN:VEVENT
UID:15029@liguecentrett.com
DTSTART:20241005T083000Z
DTEND:20241005T123000Z
DTSTAMP:20241017T134059Z
URL:https://liguecentrett.com/events/assemblee-generale-2024/
SUMMARY:Assemblée Générale 2024
DESCRIPTION:[su_tabs]\n\n[su_tab title="Convocation"]\n\nConvocation Assemb
 lée Générale 2024/Saison 2023-2024\n\nAnnexe 1 : Note réglementaire Po
 uvoir et Procuration\n\nAnnexe 2 : Fiche de Pouvoir\n\nAnnexe 3 : Fiche de
  Procuration\n\nAnnexe 4 : Lettre du Président\n\nAnnexe 5 : Acte de Cand
 idature\n\nInvitation\n\nInscription PAELLA\n\nMessage présidente USEP CV
 L\n\n[/su_tab]\n\n[su_tab title="Administratif et financier"]\n\nProcès V
 erbal de l'A.G. 2023\n\nListe Pointage des Clubs 2023\n\nDiscours du Prés
 ident Jean-Paul Chilon\n\nRapport 2024 du Secrétaire Général Bruno Simo
 n\n\nComptes de résultats 2023-2024 - BP 2024-2025 Révisé - BP 2025-202
 6\n\nComptes annuels et méthodologie (dont bilan actif - passif 2023-2024
 )\n\nTarifs 2025-2026\n\nRapport des Vérificateurs aux comptes\n\nÉlecti
 on au Conseil de Ligue - Liste Officielle des Candidates et Candidats\n\n\
 nPrésentation équipe 2024-2028 - Projet 2024-2028\n\nRésultats des éle
 ctions au Conseil de Ligue - Présidence - Délégués\n\n[/su_tab]\n\n[su
 _tab title="Sportif et développement"]\n\nBilan annuel du Conseiller Tech
 nique National - Nicolas Metaireau\n\nBilan annuel de la détection - Arna
 ud Avol\n\nBilan du pôle espoir - Hugo Berger\n\nBilan annuel du dévelop
 pement - Romain Bardin\n\nBilan commission sportive - Michel Casy\n\nBalle
  au Centre n°15\n\n[/su_tab]\n\n[su_tab title="Récompenses aux clubs"]\n
 \nChallenge clubs corpos : 1er Sport Élec de Dampierre\n\nLes challenges 
 2023-2024\n\nLes clubs labellisés et le défi licence découverte 2023-20
 24\n\n[/su_tab]\n\n[su_tab title="Mérite Régional"]\n\nCourrier mérite 
 2024\n\nPromotion 2024\n\n[/su_tab]\n\n[su_tab title="Photos"]\n\n\n\n****
 **************************************************************************
 *\n\n\n\n[/su_tab]\n\n[su_tab title="Vidéos"]\n\n&nbsp\;\n\nhttps://www.f
 acebook.com/LigueCVLTT/videos/1051192432999179?locale=fr_FR\n\n[su_youtube
  url="https://www.youtube.com/watch?v=HsrmhzTbquo"]\n\n[su_youtube url="ht
 tps://www.youtube.com/watch?v=lC8jxeFsATo"]\n\n[su_youtube url="https://ww
 w.youtube.com/watch?v=IwQ1xwHflSQ"]\n\n[/su_tab]\n\n[su_tab title="Article
  de journal"]\n\n\n\n\n\n[/su_tab]\n\n[/su_tabs]
ATTACH;FMTTYPE=image/jpeg:https://liguecentrett.com/wp-content/uploads/202
 4/04/AG-2024.png
CATEGORIES:Réunions
LOCATION:Salle Cuiry\, 32 Rue Georges Brassens\, Gien\, France
GEO:47.708758;2.624111
X-APPLE-STRUCTURED-LOCATION;VALUE=URI;X-ADDRESS=32 Rue Georges Brassens\, G
 ien\, France;X-APPLE-RADIUS=100;X-TITLE=Salle Cuiry:geo:47.708758,2.624111
END:VEVENT
END:VCALENDAR